BEGIN:VCALENDAR
VERSION:2.0
PRODID:-//hacksw/handcal//NONSGML v1.0//EN
BEGIN:VEVENT
SUMMARY:Valence
UID:a0649ac5-1bb2-46a2-b443-5ed4d0afa193
DTSTART:20260502T220000Z
DTEND:20260503T220000Z
LOCATION:Localisation   
CATEGORIES:Sportif
STATUS:
URL;VALUE=URI:https://www.alvgymnastique.fr/evenements/2026/05/03/valence-2443977
END:VEVENT
END:VCALENDAR
